BEGIN:VCALENDAR
VERSION:2.0
PRODID:-//hacksw/handcal//NONSGML v1.0//EN
BEGIN:VEVENT
SUMMARY:INTER ENTREPRISES DE THOUARS
UID:8c6438bb-f3ef-49d8-9c5f-0e5426c2358f
DTSTART:20260517T070000Z
DTEND:20260517T180000Z
LOCATION:Stade exterieur d'ete Stade Philippe MORIN 79100 THOUARS
CATEGORIES:Sportif
STATUS:
DESCRIPTION:<p>Concours en doublette</p>
 
 <p>1 seul licencie maximum
 par equipe</p>
 
 <p>possibilite de manger sur place - Food Trick Chez
 Raoul</p>
 
 <p>10 €uros l'equipe</p>
 
 <p>Validation uniquement apres
 reception du reglement.</p>
 
 <p>Cheque ou especes aupres de Christian
 Derangere - 4 rue Jules Renard - 79100 Thouars.</p>
URL;VALUE=URI:https://www.le-carreau-thouarsais.com/evenements/2026/05/17/inter-entreprises-de-thouars-2441654
END:VEVENT
END:VCALENDAR
